BEGIN:VCALENDAR
VERSION:2.0
PRODID:-//SaskBarley - ECPv6.15.20//NONSGML v1.0//EN
CALSCALE:GREGORIAN
METHOD:PUBLISH
X-WR-CALNAME:SaskBarley
X-ORIGINAL-URL:https://saskbarley.com
X-WR-CALDESC:Events for SaskBarley
REFRESH-INTERVAL;VALUE=DURATION:PT1H
X-Robots-Tag:noindex
X-PUBLISHED-TTL:PT1H
BEGIN:VTIMEZONE
TZID:America/Regina
BEGIN:STANDARD
TZOFFSETFROM:-0600
TZOFFSETTO:-0600
TZNAME:CST
DTSTART:20240101T000000
END:STANDARD
END:VTIMEZONE
BEGIN:VEVENT
DTSTART;TZID=America/Regina:20250327T080000
DTEND;TZID=America/Regina:20250327T161500
DTSTAMP:20260425T054320
CREATED:20250304T193400Z
LAST-MODIFIED:20250304T195553Z
UID:3423-1743062400-1743092100@saskbarley.com
SUMMARY:Saskatchewan Ag Summit 2025
DESCRIPTION:
URL:https://saskbarley.com/event/saskatchewan-ag-summit-2025/
LOCATION:Saskatoon Inn\, 2002 Airport Dr\, Saskatoon\, Saskatchewan\, S7L 6M4\, Canada
CATEGORIES:Industry Events,SaskBarley Events
ATTACH;FMTTYPE=image/png:https://saskbarley.com/wp-content/uploads/2025/03/SaskAg-Summit-2025.png
END:VEVENT
END:VCALENDAR