BEGIN:VCALENDAR
VERSION:2.0
PRODID:-//SaskBarley - ECPv6.15.20//NONSGML v1.0//EN
CALSCALE:GREGORIAN
METHOD:PUBLISH
X-ORIGINAL-URL:https://saskbarley.com
X-WR-CALDESC:Events for SaskBarley
REFRESH-INTERVAL;VALUE=DURATION:PT1H
X-Robots-Tag:noindex
X-PUBLISHED-TTL:PT1H
BEGIN:VTIMEZONE
TZID:America/Regina
BEGIN:STANDARD
TZOFFSETFROM:-0600
TZOFFSETTO:-0600
TZNAME:CST
DTSTART:20240101T000000
END:STANDARD
END:VTIMEZONE
BEGIN:VEVENT
DTSTART;TZID=America/Regina:20250328T110000
DTEND;TZID=America/Regina:20250328T120000
DTSTAMP:20260425T054858
CREATED:20250310T155216Z
LAST-MODIFIED:20250310T155217Z
UID:3428-1743159600-1743163200@saskbarley.com
SUMMARY:Webinar: Barley Seeding and Production Discussion
DESCRIPTION:
URL:https://saskbarley.com/event/webinar-barley-seeding-and-production-discussion/
CATEGORIES:SaskBarley Events
ATTACH;FMTTYPE=image/png:https://saskbarley.com/wp-content/uploads/2025/03/2025-Seeding-and-Production-Webinar.png
ORGANIZER;CN="Canadian Malting Barley Technical Centre":MAILTO:cmbtc@cmbtc.com
END:VEVENT
END:VCALENDAR