BEGIN:VCALENDAR
VERSION:2.0
PRODID:-//SaskBarley - ECPv6.15.20//NONSGML v1.0//EN
CALSCALE:GREGORIAN
METHOD:PUBLISH
X-WR-CALNAME:SaskBarley
X-ORIGINAL-URL:https://saskbarley.com
X-WR-CALDESC:Events for SaskBarley
REFRESH-INTERVAL;VALUE=DURATION:PT1H
X-Robots-Tag:noindex
X-PUBLISHED-TTL:PT1H
BEGIN:VTIMEZONE
TZID:America/Regina
BEGIN:STANDARD
TZOFFSETFROM:-0600
TZOFFSETTO:-0600
TZNAME:CST
DTSTART:20250101T000000
END:STANDARD
END:VTIMEZONE
BEGIN:VEVENT
DTSTART;TZID=America/Regina:20260313T120000
DTEND;TZID=America/Regina:20260313T130000
DTSTAMP:20260425T042959
CREATED:20260223T153249Z
LAST-MODIFIED:20260309T214817Z
UID:4036-1773403200-1773406800@saskbarley.com
SUMMARY:Sask Crops On-Farm Research Results
DESCRIPTION:Want real field-scale data before you make 2026 decisions?\n\n\n\nJoin us for a practical webinar breaking down the 2025 Saskatchewan On-Farm Field Research results and the 2026 protocols you can participate in. \n\n\n\nHear directly from researchers working in barley\, canola\, wheat\, and pulses — and see what products and management practices actually performed in Prairie conditions. \n\n\n\nTopics include: \n\n\n\n\nPlant Growth Regulators (PGRs) in barley\n\n\n\nCanola fungicide strategies (sclerotinia & blackleg)\n\n\n\nNitrogen management in wheat (split/top-up N & EENF)\n\n\n\nChickpea inoculation and pulse fungicide trials\n\n\n\n\nIf you’ve ever wondered how these trials translate to your acres — this is where you find out. \n\n\n\nRegister and see what’s worth testing on your own farm. \n\n\n\n\n\n\n\n\nRegister Now\n\n\n\n\n\n\n\n\nWant more field-scale research results?\n\n\n\nLearn more about the BarleyBin Field Lab and other on-farm research programs: \n\n\n\n\nSaskBarley: BarleyBin Field Lab\n\n\n\nSaskOilseeds: Top Notch Farming\n\n\n\nSaskPulse: Pulse Replicated On-Farm Independent Trials (PROFIT)\n\n\n\nSask Wheat: Wheat Wise
URL:https://saskbarley.com/event/sask-crops-on-farm-research-results/
CATEGORIES:SaskBarley Events
ATTACH;FMTTYPE=image/png:https://saskbarley.com/wp-content/uploads/2026/02/2026-Sask-Crops-On-Farm-Research-Trials-Webinar.webp
END:VEVENT
END:VCALENDAR