BEGIN:VCALENDAR
VERSION:2.0
PRODID:-//SaskBarley - ECPv6.15.20//NONSGML v1.0//EN
CALSCALE:GREGORIAN
METHOD:PUBLISH
X-ORIGINAL-URL:https://saskbarley.com
X-WR-CALDESC:Events for SaskBarley
REFRESH-INTERVAL;VALUE=DURATION:PT1H
X-Robots-Tag:noindex
X-PUBLISHED-TTL:PT1H
BEGIN:VTIMEZONE
TZID:America/Regina
BEGIN:STANDARD
TZOFFSETFROM:-0600
TZOFFSETTO:-0600
TZNAME:CST
DTSTART:20250101T000000
END:STANDARD
END:VTIMEZONE
BEGIN:VEVENT
DTSTART;TZID=America/Regina:20260313T120000
DTEND;TZID=America/Regina:20260313T130000
DTSTAMP:20260425T111416
CREATED:20260223T153249Z
LAST-MODIFIED:20260309T214817Z
UID:4036-1773403200-1773406800@saskbarley.com
SUMMARY:Sask Crops On-Farm Research Results
DESCRIPTION:Want real field-scale data before you make 2026 decisions?\n\n\n\nJoin us for a practical webinar breaking down the 2025 Saskatchewan On-Farm Field Research results and the 2026 protocols you can participate in. \n\n\n\nHear directly from researchers working in barley\, canola\, wheat\, and pulses — and see what products and management practices actually performed in Prairie conditions. \n\n\n\nTopics include: \n\n\n\n\nPlant Growth Regulators (PGRs) in barley\n\n\n\nCanola fungicide strategies (sclerotinia & blackleg)\n\n\n\nNitrogen management in wheat (split/top-up N & EENF)\n\n\n\nChickpea inoculation and pulse fungicide trials\n\n\n\n\nIf you’ve ever wondered how these trials translate to your acres — this is where you find out. \n\n\n\nRegister and see what’s worth testing on your own farm. \n\n\n\n\n\n\n\n\nRegister Now\n\n\n\n\n\n\n\n\nWant more field-scale research results?\n\n\n\nLearn more about the BarleyBin Field Lab and other on-farm research programs: \n\n\n\n\nSaskBarley: BarleyBin Field Lab\n\n\n\nSaskOilseeds: Top Notch Farming\n\n\n\nSaskPulse: Pulse Replicated On-Farm Independent Trials (PROFIT)\n\n\n\nSask Wheat: Wheat Wise
URL:https://saskbarley.com/event/sask-crops-on-farm-research-results/
CATEGORIES:SaskBarley Events
ATTACH;FMTTYPE=image/png:https://saskbarley.com/wp-content/uploads/2026/02/2026-Sask-Crops-On-Farm-Research-Trials-Webinar.webp
END:VEVENT
BEGIN:VEVENT
DTSTART;TZID=America/Regina:20260325T080000
DTEND;TZID=America/Regina:20260325T163000
DTSTAMP:20260425T111416
CREATED:20260310T180406Z
LAST-MODIFIED:20260310T180454Z
UID:4071-1774425600-1774456200@saskbarley.com
SUMMARY:APAS Agricultural Policy Framework Summit
DESCRIPTION:Join Saskatchewan’s farm leaders\, policy experts\, and industry partners for a full-day conversation about the future of agricultural policy in Canada.\n\n\n\nMarch 25\, 2026 at the Saskatoon Inn & Conference Centre \n\n\n\nThe 2026 Agricultural Policy Framework Summit\, hosted by the Agriculture Producers Association of Saskatchewan\, brings together producers\, government officials\, researchers\, and industry organizations to explore priorities shaping the next National Policy Framework (NPF) for agriculture. From risk management programs and transportation policy to soil health\, water management\, and emerging agricultural technologies\, this event will examine the policy decisions that will influence Canadian farming for years to come. \n\n\n\nThroughout the day\, speakers will provide insights on key issues facing the sector\, including: \n\n\n\n\nbusiness risk management programs\n\n\n\nsupply chain efficiency\n\n\n\ninnovation in crop protection\n\n\n\nclimate resilience\n\n\n\nevolving policy landscape for food and fuel production\n\n\n\n\nThe program also includes updates from federal and provincial agriculture officials on the timelines and priorities for the upcoming NPF\, along with a producer panel sharing perspectives from the farm gate. \n\n\n\nAttendees will hear from leading voices such as Dr. Richard Gray (University of Saskatchewan)\, Pierre Petelle (CropLife Canada)\, Eric Harvey (Railway Association of Canada)\, and Lawrence Hanson (Agriculture and Agri-Food Canada)\, alongside producer leaders and policy specialists from across the sector. \n\n\n\nSponsored by SaskBarley and several Saskatchewan commodity and farm organizations\, the summit provides a unique opportunity to connect with stakeholders across the agricultural value chain and contribute to discussions that will help shape the next generation of Canadian agricultural policy. \n\n\n\n\nRegister Now
URL:https://saskbarley.com/event/apas-agricultural-policy-framework-summit/
END:VEVENT
BEGIN:VEVENT
DTSTART;TZID=America/Regina:20260325T080000
DTEND;TZID=America/Regina:20260327T170000
DTSTAMP:20260425T111416
CREATED:20251202T175225Z
LAST-MODIFIED:20251202T175225Z
UID:3878-1774425600-1774630800@saskbarley.com
SUMMARY:Learn to Lead 2026
DESCRIPTION:Ready to grow your leadership potential? \n\n\n\nLearn to Lead is a premier development program for Saskatchewan farmers\, hosted by SaskOilseeds and proudly sponsored by SaskBarley\, SaskOats\, Saskatchewan Pulse Growers and Sask Wheat.  \n\n\n\nThis immersive experience equips participants with essential skills in communication\, governance\, decision-making\, and more—preparing you to make an impact in your community and the agriculture industry. Selected applicants receive complimentary registration valued at $2\,500!  \n\n\n\nApplications are open now until January 31\, 2026. Don’t miss your chance to join an exclusive network of future ag leaders!  \n\n\n\nApply Today:\n\n\n\nHow to Apply: Learn to Lead is open to all interested Saskatchewan registered producers (levy payers) from all crop commodities who are actively contributing to their farm livelihood directly or indirectly in supporting roles. Applicants who are selected receive complimentary registration valued at $2\,500. \n\n\n\nTo apply for Learn to Lead 2026\, email info@saskoilseeds.com. Include your personal information (name\, farm name\, address). Tell us about yourself and your farming operation! (i.e how long you have farmed\, who you farm with\, where your farm is\, your experience with your community/farming organizations\, and any leadership aspirations you have.) Attach a photo of yourself in the email. \n\n\n\nThe deadline for Learn to Lead applications is January 31\, 2026.
URL:https://saskbarley.com/event/learn-to-lead-2026/
CATEGORIES:Industry Events
ATTACH;FMTTYPE=image/jpeg:https://saskbarley.com/wp-content/uploads/2025/12/FB-Linked-In-scaled.webp
END:VEVENT
END:VCALENDAR