BEGIN:VCALENDAR
VERSION:2.0
PRODID:-//SaskBarley - ECPv6.15.20//NONSGML v1.0//EN
CALSCALE:GREGORIAN
METHOD:PUBLISH
X-WR-CALNAME:SaskBarley
X-ORIGINAL-URL:https://saskbarley.com
X-WR-CALDESC:Events for SaskBarley
REFRESH-INTERVAL;VALUE=DURATION:PT1H
X-Robots-Tag:noindex
X-PUBLISHED-TTL:PT1H
BEGIN:VTIMEZONE
TZID:America/Regina
BEGIN:STANDARD
TZOFFSETFROM:-0600
TZOFFSETTO:-0600
TZNAME:CST
DTSTART:20210101T000000
END:STANDARD
END:VTIMEZONE
BEGIN:VEVENT
DTSTART;TZID=America/Regina:20221107T173000
DTEND;TZID=America/Regina:20221107T203000
DTSTAMP:20260421T155702
CREATED:20221017T231607Z
LAST-MODIFIED:20221107T175115Z
UID:2487-1667842200-1667853000@saskbarley.com
SUMMARY:BarleyBin Live: North Battleford
DESCRIPTION:November 7\, 2022 @ 7:00 pm – 9:30 pm
URL:https://saskbarley.com/event/barleybin-live-north-battleford/
CATEGORIES:Industry Events
ATTACH;FMTTYPE=image/jpeg:https://saskbarley.com/wp-content/uploads/2022/10/bblive-nov-updated-to-online.jpg
END:VEVENT
END:VCALENDAR